BEGIN:VCALENDAR
VERSION:2.0
PRODID:-//wp-events-plugin.com//7.2.3.1//EN
TZID:America/Toronto
X-WR-TIMEZONE:America/Toronto
BEGIN:VEVENT
UID:4409@olvottawa.ca
DTSTART;TZID=America/Toronto:20260418T153000
DTEND;TZID=America/Toronto:20260418T160000
DTSTAMP:20250125T231431Z
URL:https://olvottawa.ca/church/events/reconciliation-2026-04-18/
SUMMARY:Reconciliation
DESCRIPTION:Sacrament of Reconciliation every Saturday afternoon 3:30 - 4 P
 M
CATEGORIES:Worship
LOCATION:Our Lady of the Visitation\, 5338 Bank Street\,\, Gloucester\,\, O
 ntario\,\, K1X 1H1\,\, Canada
GEO:45.286239;-75.575448
X-APPLE-STRUCTURED-LOCATION;VALUE=URI;X-ADDRESS=5338 Bank Street\,\, Glouce
 ster\,\, Ontario\,\, K1X 1H1\,\, Canada;X-APPLE-RADIUS=100;X-TITLE=Our Lad
 y of the Visitation:geo:45.286239,-75.575448
END:VEVENT
BEGIN:VTIMEZONE
TZID:America/Toronto
X-LIC-LOCATION:America/Toronto
BEGIN:DAYLIGHT
DTSTART:20260308T030000
TZOFFSETFROM:-0500
TZOFFSETTO:-0400
TZNAME:EDT
END:DAYLIGHT
END:VTIMEZONE
END:VCALENDAR